Workbook

Sheet Form702
A1: SUBCONTRACTOR APPLICATION FOR PAYMENT (Form 702) | J1: Page 1 of 2
A3: TO General Contractor: | D3: PROJECT NAME & ADDRESS: | H3: APPLICATION NO: | K3: Distribution to:
L4: OWNER
B5: STGO Pro4mance, LLC. | H5: APPLICATION DATE: | L5: ARCHITECT
B6: PO Box 317 | L6: CONTRACTOR
B7: Davenport FL 33837 | H7: PERIOD FROM: | L7: FIELD
L8: OTHER
H9: PERIOD TO:
A10: FROM SUBCONTRACTOR:
D12: PROJECT #:
H14: SUBCONTRACTOR INVOICE NO:
A17: CONTRACTOR'S APPLICATION FOR PAYMENT | G17: The undersigned Subcontractor certifies that, to the best of the subcontractor's knowledge, (1) the work has been performed as required in the Subcontract documents, (2) all sums previously paid to Subcontractor under the Subcontract have been used to pay Subcontractor's cost for labor, materials, and other obligations under the Subcontract for work previously paid for, and (3) Subcontractor is legally entitled to this payment.
A18: Application is made for payment, as shown below, in connection with the Contract.
A19: Continuation Sheet, Form 703, is attached.
A21: 1. ORIGINAL CONTRACT SUM | D21: $
A22: 2. Net change by Change Orders | D22: $ | E22: =D46 -> 0 | G22: SUBCONTRACTOR:
A23: 3. CONTRACT SUM TO DATE (Line 1 ± 2) $ | D23: $ | E23: =SUM(E21:E22) -> 0
A24: 4. TOTAL COMPLETED & STORED TO | D24: $ | E24: =Form703!H36 -> 0
A25: DATE (Column G on Form 703) | G25: By: | J25: Date:
A26: 5. RETAINAGE: | H26: (Name)
A27: a. | B27: 0.1 | C27: % of Completed Work $ | D27: =B27*(Form703!E36+Form703!F36) -> 0 | G27: State of: | I27: County of:
B28: (Column D + E on 703) | G28: Subscribed and sworn to before me this | J28: day of
A29: b. | B29: 0.1 | C29: % of Stored Material $ | D29: =B29*(Form703!G36) -> 0
B30: (Column F on 703) | G30: Notary Public:
A31: Total Retainage (Lines 5a + 5b or | D31: $ | E31: =D27+D29 -> 0 | G31: My Commission expires:
B32: Total in Column I of 703)
A33: 6. TOTAL EARNED LESS RETAINAGE | D33: $ | E33: =E24-E31 -> 0
B34: (Line 4 Less Line 5 Total)
A35: 7. LESS PREVIOUS CERTIFICATES FOR | G35: In accordance with the Contract Documents, based on on-site observations and the data comprising this application, the Architect certifies to the Owner that to the best of the Architect's knowledge, information and belief the Work has progressed as indicated, the quality of the Work is in accordance with the Contract Documents, and the Contractor is entitled to payment of the AMOUNT CERTIFIED.
A36: PAYMENT (Line 6 from prior Certificate) | D36: $ | E36: =(1-B27)*Form703!E36 -> 0
A37: 8. CURRENT PAYMENT DUE | D37: $ | E37: =E33-E36 -> 0
A38: 9. BALANCE TO FINISH, INCLUDING RETAINAGE $ | D38: $ | E38: =E23-E33 -> 0
B39: (Line 3 less Line 6)
G40: AMOUNT CERTIFIED........................................................................ | L40: =E37 -> 0
A41: CHANGE ORDER SUMMARY | D41: ADDITIONS | E41: DEDUCTIONS | G41: (Attach explanation if amount certified differs from the amount applied for. Initial all figures on this Application and on the Continuation Sheet that are changed to conform to the amount certified.)
A42: Total changes approved
A43: in previous months by Owner
G44: ARCHITECT:
A45: Total approved this Month | G45: By: | K45: Date:
G46: This Certificate is not negotiable. The AMOUNT CERTIFIED is payable only to the Contractor named herein. Issuance, payment and acceptance of payment are without prejudice to any rights of the Owner or Contractor under this Contract.
...

Sheet Form703
B1: SUBCONTRACTOR CONTINUATION SHEET | F1: (Form 703) | II1: /WGPD
B2: Form 702, APPLICATION AND CERTIFICATION FOR PAYMENT, containing | I2: APPLICATION NO: | J2: =Form702!I3 -> 0 | II2: /wir.{d 25}~{r 6}/cf~~{L 6}~
B3: Contractor's signed certification is attached. | I3: APPLICATION DATE: | J3: =Form702!I5 -> 0 | II3: /wgpe
B4: In tabulations below, amounts are stated to the exact cost. | II4: /ru.{d 26}
B5: Use Column I on Contracts where variable retainage for line items may apply. | II5: {L 5}
II6: {L 9}
B7: A | C7: B | D7: C | E7: D | F7: E | G7: F | H7: G | J7: H | K7: I | II7: /ru.{d 26}~
B8: ITEM | C8: DESCRIPTION OF WORK | D8: SCHEDULED | E8: WORK COMPLETED | G8: MATERIALS | H8: TOTAL | J8: BALANCE | K8: RETAINAGE
B9: NO. | C9: REPLACE NAMES BELOW WITH DESCRIPTIONS FOR SUBCONTRACTOR'S SPECIFIC SCHEDULE OF VALUES | D9: VALUE | E9: FROM PREVIOUS | F9: THIS PERIOD | G9: PRESENTLY | H9: COMPLETED | I9: % | J9: TO FINISH | K9: (IF VARIABLE
E10: APPLICATION | G10: STORED | H10: AND STORED | I10: (G ÷ C) | J10: (C - G) | K10: RATE)
E11: (D + E) | G11: (NOT IN | H11: TO DATE
G12: D OR E) | H12: (D+E+F)
B14: 1 | C14: NAME OF ITEM: | H14: =E14+F14+G14 -> 0 | I14: =H14/D14 -> #DIV/0! | J14: =D14-H14 -> 0 | K14: =H14*0.1 -> 0
B15: 2 | C15: NAME OF ITEM: | H15: =E15+F15+G15 -> 0 | I15: =H15/D15 -> #DIV/0! | J15: =D15-H15 -> 0 | K15: =H15*0.1 -> 0
B16: 3 | C16: NAME OF ITEM: | H16: =E16+F16+G16 -> 0 | I16: =H16/D16 -> #DIV/0! | J16: =D16-H16 -> 0 | K16: =H16*0.1 -> 0
B17: 4 | C17: NAME OF ITEM: | H17: =E17+F17+G17 -> 0 | I17: =H17/D17 -> #DIV/0! | J17: =D17-H17 -> 0 | K17: =H17*0.1 -> 0
B18: 5 | C18: CHANGE ORDER ITEM | H18: =E18+F18+G18 -> 0 | I18: =H18/D18 -> #DIV/0! | J18: =D18-H18 -> 0 | K18: =H18*0.1 -> 0
B19: 6 | C19: CHANGE ORDER ITEM | H19: =E19+F19+G19 -> 0 | I19: =H19/D19 -> #DIV/0! | J19: =D19-H19 -> 0 | K19: =H19*0.1 -> 0
H20: =E20+F20+G20 -> 0 | I20: =H20/D20 -> #DIV/0! | J20: =D20-H20 -> 0 | K20: =H20*0.1 -> 0
H21: =E21+F21+G21 -> 0 | I21: =H21/D21 -> #DIV/0! | J21: =D21-H21 -> 0 | K21: =H21*0.1 -> 0
H22: =E22+F22+G22 -> 0 | I22: =H22/D22 -> #DIV/0! | J22: =D22-H22 -> 0 | K22: =H22*0.1 -> 0
H23: =E23+F23+G23 -> 0 | I23: =H23/D23 -> #DIV/0! | J23: =D23-H23 -> 0 | K23: =H23*0.1 -> 0
H24: =E24+F24+G24 -> 0 | I24: =H24/D24 -> #DIV/0! | J24: =D24-H24 -> 0 | K24: =H24*0.1 -> 0
H25: =E25+F25+G25 -> 0 | I25: =H25/D25 -> #DIV/0! | J25: =D25-H25 -> 0 | K25: =H25*0.1 -> 0
H26: =E26+F26+G26 -> 0 | I26: =H26/D26 -> #DIV/0! | J26: =D26-H26 -> 0 | K26: =H26*0.1 -> 0
H27: =E27+F27+G27 -> 0 | I27: =H27/D27 -> #DIV/0! | J27: =D27-H27 -> 0 | K27: =H27*0.1 -> 0
H28: =E28+F28+G28 -> 0 | I28: =H28/D28 -> #DIV/0! | J28: =D28-H28 -> 0 | K28: =H28*0.1 -> 0
H29: =E29+F29+G29 -> 0 | I29: =H29/D29 -> #DIV/0! | J29: =D29-H29 -> 0 | K29: =H29*0.1 -> 0
H30: =E30+F30+G30 -> 0 | I30: =H30/D30 -> #DIV/0! | J30: =D30-H30 -> 0 | K30: =H30*0.1 -> 0
H31: =E31+F31+G31 -> 0 | I31: =H31/D31 -> #DIV/0! | J31: =D31-H31 -> 0 | K31: =H31*0.1 -> 0
... H33: =E33+F33+G33 -> 0 | I33: =H33/D33 -> #DIV/0! | J33: =D33-H33 -> 0 | K33: =H33*0.1 -> 0
H34: =IF(E34+F34+G34=0,"",E34+F34+G34)
H35: =E35+F35+G35 -> 0 | I35: =G35/D35 -> #DIV/0!
C36: GRAND TOTALS | D36: =SUM(D13:D34) -> 0 | E36: =SUM(E13:E34) -> 0 | F36: =SUM(F13:F34) -> 0 | G36: =SUM(G13:G34) -> 0 | H36: =SUM(H13:H34) -> 0 | I36: =G36/D36 -> #DIV/0! | J36: =SUM(J13:J34) -> 0 | K36: =SUM(K13:K34) -> 0
